BEGIN:VCALENDAR
VERSION:2.0
PRODID:-//ChamberMaster//Event Calendar 2.0//EN
METHOD:PUBLISH
X-PUBLISHED-TTL:P3D
REFRESH-INTERVAL:P3D
CALSCALE:GREGORIAN
BEGIN:VEVENT
DTSTART:20191004T160000Z
DTEND:20191005T220000Z
X-MICROSOFT-CDO-ALLDAYEVENT:FALSE
SUMMARY:Quilts in the Country~Quilt Show
DESCRIPTION:The Hugo Ladies Club/Schoolhouse Quilters annual quilt show and "Quilted Treasures" Silent Auction\n\n\n\nEnjoy vendor and handcrafted boutique items\, door prizes and basket raffle. Lunch will be available for purchase\, as well as homemade desserts. The drawing winner of the 2019 Opportunity Quilt "North by Northwest" will be at 3:00pm\, October 05\, 2019. Need not be present to win.\n\n\n\nYou can find us selling tickets at the Summer Saturday Market. One ticket for $1.00 or Six tickets for $5.00 and various venue throughout the community.
X-ALT-DESC;FMTTYPE=text/html:<br />\n<span style="font-size:18px\;"><strong>The Hugo Ladies Club/Schoolhouse Quilters annual quilt show and <span style="color: rgb(51\, 51\, 51)\; font-family: sans-serif\, Arial\, Verdana\, &quot\;Trebuchet MS&quot\;\; background-color: rgb(255\, 255\, 255)\;">&quot\;Quilted Treasures&quot\;&nbsp\;</span></strong></span><span style="font-size:16px\;"><span style="font-size:18px\;"><strong>Silent Auction</strong></span><br />\n<br />\nEnjoy vendor and handcrafted boutique items\, door prizes and basket raffle. Lunch will be available for purchase\, as well as homemade desserts. The drawing winner of the 2019 Opportunity Quilt &quot\;North by Northwest&quot\; will be at 3:00pm\, October 05\, 2019. Need not be present to win.<br />\n<br />\nYou can find us selling tickets at the Summer Saturday Market. One ticket for $1.00 or Six tickets for $5.00 and various venue throughout the community.</span>
LOCATION:Hugo School House 6050 Hugo Road\, Hugo Exit 66 Follow the "Quilt Show" signs
UID:e.1818.30375
SEQUENCE:3
DTSTAMP:20260423T191226Z
URL:https://business.grantspasschamber.org/events/details/quilts-in-the-country-quilt-show-30375
END:VEVENT

END:VCALENDAR
