BEGIN:VCALENDAR
VERSION:2.0
PRODID:-//ChamberMaster//Event Calendar 2.0//EN
METHOD:PUBLISH
X-PUBLISHED-TTL:P3D
REFRESH-INTERVAL:P3D
CALSCALE:GREGORIAN
BEGIN:VEVENT
DTSTART:20160621T000000Z
DTEND:20160621T020000Z
X-MICROSOFT-CDO-ALLDAYEVENT:FALSE
SUMMARY:QUINOA-THE HEALTHY WONDER
DESCRIPTION:All recipes featured will be using versatile and great tasting quinoa. Participants will learn how to prepare a variety of simple quinoa dishes that everyone will enjoy. FREE COOKING CLASS! Class includes recipes as well as samples of each item prepared.\n\n\n\nClasses will be held in the Demonstration Kitchen on the 4th Floor of the Asante Center for Outpatient Health located at 537 SW Union Avenue in Grants Pass. Space is limited\, reservations are required. Please call and reserve your seat at 541-471-4208.
X-ALT-DESC;FMTTYPE=text/html:<strong>All recipes featured will be using versatile and great tasting quinoa. Participants will learn how to prepare a variety of simple quinoa dishes that everyone will enjoy. FREE COOKING CLASS! Class includes recipes as well as samples of each item prepared.<br />\n<br />\nClasses will be held in the Demonstration Kitchen on the 4th Floor of the Asante Center for Outpatient Health located at 537 SW Union Avenue in Grants Pass. Space is limited\, reservations are required. Please call and reserve your seat at 541-471-4208.</strong>
LOCATION:Classes are located at: Asante Center for Outpatient Health 537 SW Union Ave Grants Pass\, OR 97527 Demonstration Kitchen\, Fourth Floor ? Straight ahead off the elevator
UID:e.1818.17451
SEQUENCE:3
DTSTAMP:20260425T224054Z
URL:https://business.grantspasschamber.org/events/details/quinoa-the-healthy-wonder-06-20-2016-17451
END:VEVENT

END:VCALENDAR
