BEGIN:VCALENDAR
VERSION:2.0
PRODID:-//ChamberMaster//Event Calendar 2.0//EN
METHOD:PUBLISH
X-PUBLISHED-TTL:P3D
REFRESH-INTERVAL:P3D
CALSCALE:GREGORIAN
BEGIN:VEVENT
DTSTART:20160319T160000Z
DTEND:20160319T210000Z
X-MICROSOFT-CDO-ALLDAYEVENT:FALSE
SUMMARY:R/C Swap & Shop ~ 19th Annual
DESCRIPTION:Rogue Valley Flyers R/C club presents its 19th annual Swap & Shop. Huge display of models for hobbyists. Additional information at our website.
X-ALT-DESC;FMTTYPE=text/html:<strong>Rogue Valley Flyers R/C club presents its 19th annual Swap &amp\; Shop. Huge display of models for hobbyists. Additional information at our websit</strong>e.
LOCATION:Josephine County Fairgrounds Flower Bldg.
UID:e.1818.15220
SEQUENCE:3
DTSTAMP:20260426T030803Z
URL:https://business.grantspasschamber.org/events/details/r-c-swap-shop-19th-annual-03-19-2016-15220
END:VEVENT

END:VCALENDAR
