BEGIN:VCALENDAR
VERSION:2.0
PRODID:-//ChamberMaster//Event Calendar 2.0//EN
METHOD:PUBLISH
X-PUBLISHED-TTL:P3D
REFRESH-INTERVAL:P3D
CALSCALE:GREGORIAN
BEGIN:VEVENT
DTSTART;VALUE=DATE:20160618
DTEND;VALUE=DATE:20160620
TRANSP:TRANSPARENT
X-MICROSOFT-CDO-ALLDAYEVENT:TRUE
SUMMARY:Racing on the Rogue ~ Grants Pass Downs
DESCRIPTION:Season opener the week end of June 18th & 19th continuing\n\non until July 9 & 10th\n\n\n\n\n\nPresented by the Southern Oregon Horse  Racing Association ~S.O.H.R.A
X-ALT-DESC;FMTTYPE=text/html:<u><strong>Season opener the week end of June 18th &amp\; 19th continuing<br />\non until July 9 &amp\; 10th</strong></u><br />\n<br />\n<br />\n<strong>Presented by the Southern Oregon Horse&nbsp\; Racing Association ~S.O.H.R.A</strong>
LOCATION:Grants Pass Downs Josephine County Fairgrounds
UID:e.1818.17505
SEQUENCE:3
DTSTAMP:20260425T223845Z
URL:https://business.grantspasschamber.org/events/details/racing-on-the-rogue-grants-pass-downs-06-18-2016-17505
END:VEVENT

END:VCALENDAR
