BEGIN:VCALENDAR
VERSION:2.0
PRODID:-//ChamberMaster//Event Calendar 2.0//EN
METHOD:PUBLISH
X-PUBLISHED-TTL:P3D
REFRESH-INTERVAL:P3D
CALSCALE:GREGORIAN
BEGIN:VEVENT
DTSTART:20160820T000000Z
DTEND:20160820T040000Z
X-MICROSOFT-CDO-ALLDAYEVENT:FALSE
SUMMARY:RATROD O RAMA ~ Friday Night Pre-Show
DESCRIPTION:Friday Night Pre-Show @ Rogue Roasters\n\nOpen to All Vehicles\n\n\n\n5:00pm - 9:00pm
X-ALT-DESC;FMTTYPE=text/html:<span style="font-size:20px\;"><em><strong>Friday Night Pre-Show @ Rogue Roasters</strong></em></span><br />\n<u><strong>Open to All Vehicles<br />\n<br />\n5:00pm - 9:00pm</strong></u>
LOCATION:Rogue Roasters 610 SW 6th Street (at L Street)
UID:e.1818.17716
SEQUENCE:3
DTSTAMP:20260425T192634Z
URL:https://business.grantspasschamber.org/events/details/ratrod-o-rama-friday-night-pre-show-08-19-2016-17716
END:VEVENT

END:VCALENDAR
