BEGIN:VCALENDAR
VERSION:2.0
PRODID:-//ChamberMaster//Event Calendar 2.0//EN
METHOD:PUBLISH
X-PUBLISHED-TTL:P3D
REFRESH-INTERVAL:P3D
CALSCALE:GREGORIAN
BEGIN:VEVENT
DTSTART;VALUE=DATE:20180402
DTEND;VALUE=DATE:20180403
TRANSP:TRANSPARENT
X-MICROSOFT-CDO-ALLDAYEVENT:TRUE
SUMMARY:RCC Art Department Faculty Exhibition (RWC)
DESCRIPTION:Location: RWC Wiseman Gallery 3345 Redwood Highway\, Grants Pass\, OR 97527\n\nJoin us for our annual celebration of the creative studio practice of our fine art faculty.\n\n\n\nWorks of art in painting\, drawing\, mixed media\, ceramics\, and metals\, encompassing a wide range of concept\, style\, and subject.\n\n\n\nCheck out the website for daily schedule http://web.roguecc.edu/marketing-psas/wiseman-gallery-featuring-works-rcc-art-department-faculty
X-ALT-DESC;FMTTYPE=text/html:Location: <a href="http://web.roguecc.edu/locations/redwood-campus" target="_blank">RWC Wiseman Gallery 3345 Redwood Highway\, Grants Pass\, OR 97527</a><br />\nJoin us for our annual celebration of the creative studio practice of our&nbsp\;fine art faculty.<br />\n<br />\nWorks of art in painting\, drawing\, mixed media\, ceramics\, and metals\, encompassing a wide range of concept\, style\, and subject.<br />\n<br />\nCheck out the website for daily schedule <a href="http://web.roguecc.edu/marketing-psas/wiseman-gallery-featuring-works-rcc-art-department-faculty">http://web.roguecc.edu/marketing-psas/wiseman-gallery-featuring-works-rcc-art-department-faculty</a><br />\n&nbsp\;
LOCATION:RWC Wiseman Gallery 3345 Redwood Highway Grants Pass
UID:e.1818.28691
SEQUENCE:3
DTSTAMP:20260424T051025Z
URL:https://business.grantspasschamber.org/events/details/rcc-art-department-faculty-exhibition-rwc-28691
END:VEVENT

END:VCALENDAR
