BEGIN:VCALENDAR
VERSION:2.0
PRODID:-//ChamberMaster//Event Calendar 2.0//EN
METHOD:PUBLISH
X-PUBLISHED-TTL:P3D
REFRESH-INTERVAL:P3D
CALSCALE:GREGORIAN
BEGIN:VEVENT
DTSTART:20180516T230000Z
DTEND:20180609T010000Z
X-MICROSOFT-CDO-ALLDAYEVENT:FALSE
SUMMARY:RCC Student Art Exhibit
DESCRIPTION:Annual RCC Student Art Exibit
X-ALT-DESC;FMTTYPE=text/html:Annual RCC&nbsp\;Student Art Exibit
LOCATION:Wednesday-Wiseman Gallery\, GP Thursday-Higher Education Center*2nd Floor\, Medford
UID:e.1818.28770
SEQUENCE:3
DTSTAMP:20260424T012133Z
URL:https://business.grantspasschamber.org/events/details/rcc-student-art-exhibit-28770
END:VEVENT

END:VCALENDAR
