BEGIN:VCALENDAR
VERSION:2.0
PRODID:-//ChamberMaster//Event Calendar 2.0//EN
METHOD:PUBLISH
X-PUBLISHED-TTL:P3D
REFRESH-INTERVAL:P3D
CALSCALE:GREGORIAN
BEGIN:VEVENT
DTSTART:20171021T190000Z
DTEND:20171021T230000Z
X-MICROSOFT-CDO-ALLDAYEVENT:FALSE
SUMMARY:Readapalooza Storytime Celebration
DESCRIPTION:Be an undercover agent for the day at the Readapalooza Storytime Celebration when we'll be "Looking for Clues in the Library." Enjoy detective-themed storytime all day with special storytellers\, spy crafts\, pumpkin walks\, face painting\, and FREE family fun.\n\n\n\nThe schedule for the day includes:\n\n\n\n12:00 p.m.  Bilingual Storytime\n\n1:00 p.m.  Pumpkin Walk\n\n2:00 p.m.  Detective Storytime\n\n3:00 p.m.  Pumpkin Walk\n\n\n\nThe Storytime Celebration is part of the Readapalooza weekend celebration of books. For more information about Readapalooza events\, visit www.josephinelibrary.org/readapalooza-2017/\, email info@josephinelibrary.org\, or call 541-476-0571.
X-ALT-DESC;FMTTYPE=text/html:<strong><u>Be an undercover agent for the day </u>at the Readapalooza Storytime Celebration when we&#39\;ll be &quot\;Looking for Clues in the Library.&quot\; Enjoy detective-themed storytime all day with special storytellers\, spy crafts\, pumpkin walks\, face painting\, and FREE family fun.<br />\n<br />\n<u>The schedule for the day include</u>s:<br />\n<br />\n12:00 p.m.&ndash\; Bilingual Storytime<br />\n1:00 p.m.&ndash\; Pumpkin Walk<br />\n2:00 p.m.&ndash\; Detective Storytime<br />\n3:00 p.m.&ndash\; Pumpkin Walk<br />\n<br />\nThe Storytime Celebration is part of the Readapalooza weekend celebration of books. For more information about Readapalooza events\, visit <a href="https://l.facebook.com/l.php?u=http%3A%2F%2Fwww.josephinelibrary.org%2Freadapalooza-2017%2F&amp\;h=ATNlV3j2G5lmjaCicpFxVCNukb6m8gsWF4T9TIjHtZ6LR1mOMjsjECGqcze-fE66xhz1TXpekbKoJkc1fV6m47vbtw5URSnfI1-uWHrN8y3RNSzyH4IszspthpPeFnFH-NMGhNd5r4Mq1NCydlOxNk0x-QkjsOJd5y2ckA8EXXtKxjRD" rel="nofollow" target="_blank">www.josephinelibrary.org/readapalooza-2017/</a>\, email info@josephinelibrary.org\, or call 541-476-0571.</strong>
LOCATION:Grants Pass branch of Josephine Community Libraries 200 NW C Street
UID:e.1818.24675
SEQUENCE:3
DTSTAMP:20260424T200819Z
URL:https://business.grantspasschamber.org/events/details/readapalooza-storytime-celebration-24675
END:VEVENT

END:VCALENDAR
