BEGIN:VCALENDAR
VERSION:2.0
PRODID:-//ChamberMaster//Event Calendar 2.0//EN
METHOD:PUBLISH
X-PUBLISHED-TTL:P3D
REFRESH-INTERVAL:P3D
CALSCALE:GREGORIAN
BEGIN:VEVENT
DTSTART:20160319T190000Z
DTEND:20160319T190000Z
X-MICROSOFT-CDO-ALLDAYEVENT:FALSE
SUMMARY:Record Show ~ 11th Annual
DESCRIPTION:The 11th annual show and sale of vintage records\, CDs\, and music memorabilia.
X-ALT-DESC;FMTTYPE=text/html:<strong>The 11th annual show and sale of vintage records\, CDs\, and music memorabilia.</strong>
LOCATION:Josephine County Fairgrounds
UID:e.1818.15223
SEQUENCE:3
DTSTAMP:20260426T030610Z
URL:https://business.grantspasschamber.org/events/details/record-show-11th-annual-03-19-2016-15223
END:VEVENT

END:VCALENDAR
