BEGIN:VCALENDAR
VERSION:2.0
PRODID:-//ChamberMaster//Event Calendar 2.0//EN
METHOD:PUBLISH
X-PUBLISHED-TTL:P3D
REFRESH-INTERVAL:P3D
CALSCALE:GREGORIAN
BEGIN:VEVENT
DTSTART:20160603T230000Z
DTEND:20160604T013000Z
X-MICROSOFT-CDO-ALLDAYEVENT:FALSE
SUMMARY:Recovery Matters ~ 1st Annual
DESCRIPTION:Join hands across the bridge in celebration of and gratitude for your recovery.\n\n\n\nShow your support for individuals and families still challenged with addiction\n\n\n\nFree Ice Cream ~ Free Coffee ~ Live Drummers
X-ALT-DESC;FMTTYPE=text/html:<strong>Join hands across the bridge in <em><u>celebration</u> </em>of and <u><em>gratitude</em></u> for your recovery.</strong><br />\n<br />\n<strong>Show your support for individuals and families still challenged with addiction<br />\n<br />\nFree Ice Cream ~ Free Coffee ~ Live Drummers</strong>
LOCATION:Riverside Park
UID:e.1818.17525
SEQUENCE:3
DTSTAMP:20260425T223758Z
URL:https://business.grantspasschamber.org/events/details/recovery-matters-1st-annual-06-03-2016-17525
END:VEVENT

END:VCALENDAR
