BEGIN:VCALENDAR
VERSION:2.0
PRODID:-//ChamberMaster//Event Calendar 2.0//EN
METHOD:PUBLISH
X-PUBLISHED-TTL:P3D
REFRESH-INTERVAL:P3D
CALSCALE:GREGORIAN
BEGIN:VEVENT
DTSTART:20180617T173000Z
DTEND:20180623T040000Z
X-MICROSOFT-CDO-ALLDAYEVENT:FALSE
SUMMARY:Redwood Church of Christ - Youth Meeting JUNE 2018
DESCRIPTION:Youth Meeting promoting Christian Values\n\nFor more details\, visit http://redwoodchurchofchrist.org
X-ALT-DESC;FMTTYPE=text/html:Youth Meeting promoting Christian Values<br />\nFor more details\, visit&nbsp\;<a href="http://redwoodchurchofchrist.org">http://redwoodchurchofchrist.org</a>
LOCATION:Josephine Co Fairgrounds Pavilion
UID:e.1818.29239
SEQUENCE:3
DTSTAMP:20260424T014137Z
URL:https://business.grantspasschamber.org/events/details/redwood-church-of-christ-youth-meeting-june-2018-29239
END:VEVENT

END:VCALENDAR
