BEGIN:VCALENDAR
VERSION:2.0
PRODID:-//ChamberMaster//Event Calendar 2.0//EN
METHOD:PUBLISH
X-PUBLISHED-TTL:P3D
REFRESH-INTERVAL:P3D
CALSCALE:GREGORIAN
BEGIN:VEVENT
DTSTART:20160618T190000Z
DTEND:20160618T190000Z
X-MICROSOFT-CDO-ALLDAYEVENT:FALSE
SUMMARY:Relay for Life ~ GPHS
DESCRIPTION:A 24-hour run-walk that benefits the American Cancer Society.
X-ALT-DESC;FMTTYPE=text/html:A 24-hour run-walk that benefits the American Cancer Society.
LOCATION:Grants Pass High School Track
UID:e.1818.15264
SEQUENCE:3
DTSTAMP:20260425T223823Z
URL:https://business.grantspasschamber.org/events/details/relay-for-life-gphs-06-18-2016-15264
END:VEVENT

END:VCALENDAR
