BEGIN:VCALENDAR
VERSION:2.0
PRODID:-//ChamberMaster//Event Calendar 2.0//EN
METHOD:PUBLISH
X-PUBLISHED-TTL:P3D
REFRESH-INTERVAL:P3D
CALSCALE:GREGORIAN
BEGIN:VEVENT
DTSTART:20160423T160000Z
DTEND:20160423T220000Z
X-MICROSOFT-CDO-ALLDAYEVENT:FALSE
SUMMARY:Relay for Life Import Car Show & Shine
DESCRIPTION:Import Car Show & Shine All proceeds go to\n\nJosephine County Relay for Life\n\n\n\nEntry fee is $ 7.50 per car\n\nOver 24 plaques to be given out in various categories
X-ALT-DESC;FMTTYPE=text/html:<strong>Import Car Show &amp\; Shine All proceeds go to<br />\nJosephine County Relay for Life<br />\n<br />\nEntry fee is $ 7.50 per car<br />\nOver 24 plaques to be given out in various categories</strong>
LOCATION:1560 Williams Hwy Abby's Pizza Parking lot
UID:e.1818.17143
SEQUENCE:3
DTSTAMP:20260426T013804Z
URL:https://business.grantspasschamber.org/events/details/relay-for-life-import-car-show-shine-04-23-2016-17143
END:VEVENT

END:VCALENDAR
