BEGIN:VCALENDAR
VERSION:2.0
PRODID:-//ChamberMaster//Event Calendar 2.0//EN
METHOD:PUBLISH
X-PUBLISHED-TTL:P3D
REFRESH-INTERVAL:P3D
CALSCALE:GREGORIAN
BEGIN:VEVENT
DTSTART:20250515T220000Z
DTEND:20250515T230000Z
X-MICROSOFT-CDO-ALLDAYEVENT:FALSE
SUMMARY:**Ribbon Cutting: Cascades of GP
DESCRIPTION:Ribbon Cutting!\n\nCascades of Grants Pass is celebrating their newly renovated Memory Care Facility.\n\n\n\nThe Grants Pass & Josephine County Chamber Ambassadors will be onsite for a ceremonial Ribbon Cutting!\n\n\n\nWhen:\n\nThursday\, May 15th at 3:00pm\n\n \n\nLocation:\n\n1357 Redwood Circle\n\nGrants Pass\, OR 97527
X-ALT-DESC;FMTTYPE=text/html:<p><br />\n<br />\n<strong><span style="font-size:20px\;"><span style="font-size:36px\;">Ribbon Cutting!</span></span></strong><br />\n<span style="font-size:20px\;">Cascades of Grants Pass is celebrating their newly&nbsp\;renovated Memory Care Facility.</span><br />\n<br />\n<span style="font-size:20px\;">The Grants Pass &amp\; Josephine County Chamber Ambassadors will be onsite for a ceremonial Ribbon Cutting!</span><br />\n<br />\n<strong><span style="font-size:20px\;">When:</span></strong><br />\n<span style="font-size:20px\;">Thursday\, May 15th at 3:00pm</span><br />\n&nbsp\;</p>\n\n<p><span style="font-size:20px\;"><strong>Location:</strong><br />\n1357 Redwood Circle</span><br />\n<span style="font-size:20px\;">Grants Pass\, OR 97527</span></p>\n
LOCATION:Cascades of GP 1357 Redwood Circle Grants Pass\, 97527
UID:e.1818.54708
SEQUENCE:3
DTSTAMP:20260419T115311Z
URL:https://business.grantspasschamber.org/events/details/ribbon-cutting-cascades-of-gp-54708
END:VEVENT

END:VCALENDAR
