BEGIN:VCALENDAR
VERSION:2.0
PRODID:-//ChamberMaster//Event Calendar 2.0//EN
METHOD:PUBLISH
X-PUBLISHED-TTL:P3D
REFRESH-INTERVAL:P3D
CALSCALE:GREGORIAN
BEGIN:VEVENT
DTSTART:20250322T180000Z
DTEND:20250322T190000Z
X-MICROSOFT-CDO-ALLDAYEVENT:FALSE
SUMMARY:**Ribbon Cutting: Habitat for Humanity
DESCRIPTION:Ribbon Cutting!\n\nGrants Pass Area Habitat for Humanity will be celebrating their 24th Home Dedication! Come check out and meet your new neighbors and celebrate their journey to home ownership!\n\n\n\nThe Grants Pass & Josephine County Chamber Ambassadors will be onsite for a ceremonial Ribbon Cutting!\n\n\n\nWhen:\n\nSaturday\, March 22nd at 11:00am\n\n \n\nLocation:\n\n1325 Redfin Lane\n\nGrants Pass\, OR 97527
X-ALT-DESC;FMTTYPE=text/html:<p><br />\n<br />\n<strong><span style="font-size:20px\;"><span style="font-size:36px\;">Ribbon Cutting!</span></span></strong><br />\n<span style="font-size:20px\;">Grants Pass Area Habitat for Humanity will be&nbsp\;celebrating their 24th Home Dedication! Come check out and meet your new neighbors and celebrate their journey to home ownership!</span><br />\n<br />\n<span style="font-size:20px\;">The Grants Pass &amp\; Josephine County Chamber Ambassadors will be onsite for a ceremonial Ribbon Cutting!</span><br />\n<br />\n<strong><span style="font-size:20px\;">When:</span></strong><br />\n<span style="font-size:20px\;">Saturday\, March 22nd at 11:00am</span><br />\n&nbsp\;</p>\n\n<p><span style="font-size:20px\;"><strong>Location:</strong><br />\n1325 Redfin Lane</span><br />\n<span style="font-size:20px\;">Grants Pass\, OR 97527</span></p>\n
LOCATION:1325 Redfin Lane Grants Pass\, 97527
UID:e.1818.54118
SEQUENCE:3
DTSTAMP:20260419T152633Z
URL:https://business.grantspasschamber.org/events/details/ribbon-cutting-habitat-for-humanity-54118
END:VEVENT

END:VCALENDAR
