BEGIN:VCALENDAR
VERSION:2.0
PRODID:-//ChamberMaster//Event Calendar 2.0//EN
METHOD:PUBLISH
X-PUBLISHED-TTL:P3D
REFRESH-INTERVAL:P3D
CALSCALE:GREGORIAN
BEGIN:VEVENT
DTSTART:20171018T180000Z
DTEND:20171018T190000Z
X-MICROSOFT-CDO-ALLDAYEVENT:FALSE
SUMMARY:Ribbon Cutting & Open House- Washington Federal Bank
DESCRIPTION:Ribbon Cutting & Open House\n\nWashington Federal Bank
X-ALT-DESC;FMTTYPE=text/html:<strong>Ribbon Cutting &amp\; Open House<br />\nWashington Federal Bank</strong>
LOCATION:Washington Federal Bank (Corner of L Street & 7th Street) 660 SE 7th Street
UID:e.1818.24680
SEQUENCE:3
DTSTAMP:20260424T201230Z
URL:https://business.grantspasschamber.org/events/details/ribbon-cutting-open-house-washington-federal-bank-24680
END:VEVENT

END:VCALENDAR
