BEGIN:VCALENDAR
VERSION:2.0
PRODID:-//ChamberMaster//Event Calendar 2.0//EN
METHOD:PUBLISH
X-PUBLISHED-TTL:P3D
REFRESH-INTERVAL:P3D
CALSCALE:GREGORIAN
BEGIN:VEVENT
DTSTART:20241101T220000Z
DTEND:20241101T230000Z
X-MICROSOFT-CDO-ALLDAYEVENT:FALSE
SUMMARY:**Ribbon Cutting: Pacific Aviation Northwest Inc
DESCRIPTION:Ribbon Cutting!\n\nPacific Aviation Northwest Inc. is celebrating their 20th Anniversary!\n\n\n\nThe Grants Pass & Josephine County Chamber Ambassadors will be onsite for a ceremonial Ribbon Cutting!\n\n\n\nWhen:\n\nFriday\, November 1st at 3:00pm\n\n \n\nLocation:\n\n2244 Carton Way\n\nGrants Pass\, OR 97526
X-ALT-DESC;FMTTYPE=text/html:<p><br />\n<br />\n<strong><span style="font-size:20px\;"><span style="font-size:36px\;">Ribbon Cutting!</span></span></strong><br />\n<span style="font-size:20px\;">Pacific Aviation Northwest&nbsp\;Inc. is celebrating their 20th Anniversary!</span><br />\n<br />\n<span style="font-size:20px\;">The Grants Pass &amp\; Josephine County Chamber Ambassadors will be onsite for a ceremonial Ribbon Cutting!</span><br />\n<br />\n<strong><span style="font-size:20px\;">When:</span></strong><br />\n<span style="font-size:20px\;">Friday\, November 1st at 3:00pm</span><br />\n&nbsp\;</p>\n\n<p><span style="font-size:20px\;"><strong>Location:</strong><br />\n2244 Carton Way</span><br />\n<span style="font-size:20px\;">Grants Pass\, OR 97526</span></p>\n
LOCATION:Pacific Aviation Northwest Inc. 2244 Carton Way Grants Pass\, 97526
UID:e.1818.52695
SEQUENCE:3
DTSTAMP:20260419T222438Z
URL:https://business.grantspasschamber.org/events/details/ribbon-cutting-pacific-aviation-northwest-inc-52695
END:VEVENT

END:VCALENDAR
