BEGIN:VCALENDAR
VERSION:2.0
PRODID:-//ChamberMaster//Event Calendar 2.0//EN
METHOD:PUBLISH
X-PUBLISHED-TTL:P3D
REFRESH-INTERVAL:P3D
CALSCALE:GREGORIAN
BEGIN:VEVENT
DTSTART;VALUE=DATE:20160923
DTEND;VALUE=DATE:20160924
TRANSP:TRANSPARENT
X-MICROSOFT-CDO-ALLDAYEVENT:TRUE
SUMMARY:Ribbon Cutting & Wheelchair Basketball Demonstration
DESCRIPTION:Please join the Rogue Valley Scorpions at their Ribbon Cutting and Wheelchair Basketball Demonstration at the Grants Pass Boys & Girls Club.\n\n\n\nThe public is invited
X-ALT-DESC;FMTTYPE=text/html:<strong>Please join the Rogue Valley Scorpions at their Ribbon Cutting and Wheelchair Basketball Demonstration at the Grants Pass Boys &amp\; Girls Club.<br />\n<br />\nThe public is invited</strong>
LOCATION:Boys & Girls Club 203 SE 9th Street Grants Pass
UID:e.1818.17832
SEQUENCE:3
DTSTAMP:20260425T181844Z
URL:https://business.grantspasschamber.org/events/details/ribbon-cutting-wheelchair-basketball-demonstration-17832
END:VEVENT

END:VCALENDAR
