BEGIN:VCALENDAR
VERSION:2.0
PRODID:-//ChamberMaster//Event Calendar 2.0//EN
METHOD:PUBLISH
X-PUBLISHED-TTL:P3D
REFRESH-INTERVAL:P3D
CALSCALE:GREGORIAN
BEGIN:VEVENT
DTSTART:20161008T170000Z
DTEND:20161008T220000Z
X-MICROSOFT-CDO-ALLDAYEVENT:FALSE
SUMMARY:ROC Fall Family Festival & Fundraiser
DESCRIPTION:Fall Family Festival Fund raiser for the ROC Food Pantry\n\n\n\nGames\, food\, entertainment\, clowns\, face painting auctions\, raffle\, wood carvings.  Activities for all ages.
X-ALT-DESC;FMTTYPE=text/html:<strong>Fall Family Festival Fund raiser for the ROC Food Pantry<br />\n<br />\nGames\, food\, entertainment\, clowns\, face painting auctions\, raffle\, wood carvings.&nbsp\; Activities for all ages.</strong>
LOCATION:ROC (Reaching Our Community) Food Pantry 564 SW Foundry Grants Pass\, OR
UID:e.1818.17618
SEQUENCE:3
DTSTAMP:20260425T163154Z
URL:https://business.grantspasschamber.org/events/details/roc-fall-family-festival-fundraiser-17618
END:VEVENT

END:VCALENDAR
