BEGIN:VCALENDAR
VERSION:2.0
PRODID:-//ChamberMaster//Event Calendar 2.0//EN
METHOD:PUBLISH
X-PUBLISHED-TTL:P3D
REFRESH-INTERVAL:P3D
CALSCALE:GREGORIAN
BEGIN:VEVENT
DTSTART:20160801T160000Z
DTEND:20160811T200000Z
X-MICROSOFT-CDO-ALLDAYEVENT:FALSE
SUMMARY:Rock Band Camp- Jammin'
DESCRIPTION:Rock Band Class is coming. Students will focus on the components of a rock band and how to produce great music in the rock 'n' roll vein. Curriculum consists of learning one cover song and to write one original composition. Improvisation skills will be taught. We need guitar players\, bass players\, drummers and keyboard players as well as vocalists. Bring your amp and your instrument and get ready to have some fun this summer. We will perform what we have on the last day of class. We will view Pacifica's recording studio\, originally built by Steve Miller\, and record a track there with Grammy-award-winning engineer Dennis Dragon.
X-ALT-DESC;FMTTYPE=text/html:Rock Band Class is coming. Students will focus on the components of a rock band and how to produce great music in the rock &lsquo\;n&rsquo\; roll vein. Curriculum consists of learning one cover song and to write one original composition. Improvisation skills will be taught. We need guitar players\, bass players\, drummers and keyboard players as well as vocalists. Bring your amp and your instrument and get ready to have some fun this summer. We will perform what we have on the last day of class. We will view Pacifica&rsquo\;s recording studio\, originally built by Steve Miller\, and record a track there with Grammy-award-winning engineer Dennis Dragon.
LOCATION:Pacifica: A Garden in the Siskiyous 14615 Watergap Road Williams\, Oregon
UID:e.1818.17532
SEQUENCE:3
DTSTAMP:20260425T192157Z
URL:https://business.grantspasschamber.org/events/details/rock-band-camp-jammin-08-01-2016-17532
END:VEVENT

END:VCALENDAR
