BEGIN:VCALENDAR
VERSION:2.0
PRODID:-//ChamberMaster//Event Calendar 2.0//EN
METHOD:PUBLISH
X-PUBLISHED-TTL:P3D
REFRESH-INTERVAL:P3D
CALSCALE:GREGORIAN
BEGIN:VEVENT
DTSTART:20160413T190000Z
DTEND:20160413T190000Z
X-MICROSOFT-CDO-ALLDAYEVENT:FALSE
SUMMARY:Rogue Community College Art Faculty Exhibit ~ Wiseman
DESCRIPTION:The Rogue Community College art faculty exhibit will be up at the Wiseman Gallery through May 6.
X-ALT-DESC;FMTTYPE=text/html:The Rogue Community College art faculty exhibit will be up at the Wiseman Gallery through May 6.
LOCATION:Rogue Community College - Wiseman Gallery
UID:e.1818.15232
SEQUENCE:3
DTSTAMP:20260426T013646Z
URL:https://business.grantspasschamber.org/events/details/rogue-community-college-art-faculty-exhibit-wiseman-04-13-2016-15232
END:VEVENT

END:VCALENDAR
