BEGIN:VCALENDAR
VERSION:2.0
PRODID:-//ChamberMaster//Event Calendar 2.0//EN
METHOD:PUBLISH
X-PUBLISHED-TTL:P3D
REFRESH-INTERVAL:P3D
CALSCALE:GREGORIAN
BEGIN:VEVENT
DTSTART;VALUE=DATE:20160511
DTEND;VALUE=DATE:20160512
TRANSP:TRANSPARENT
X-MICROSOFT-CDO-ALLDAYEVENT:TRUE
SUMMARY:Rogue Community College Student Art Exhibit
DESCRIPTION:The Rogue Community College Student Art Exhibit will be up at the Wiseman Gallery through June 8.
X-ALT-DESC;FMTTYPE=text/html:The Rogue Community College Student Art Exhibit will be up at the Wiseman Gallery through June 8.
LOCATION:Wiseman Gallery - Rogue Community College
UID:e.1818.15249
SEQUENCE:3
DTSTAMP:20260426T000158Z
URL:https://business.grantspasschamber.org/events/details/rogue-community-college-student-art-exhibit-05-11-2016-15249
END:VEVENT

END:VCALENDAR
