BEGIN:VCALENDAR
VERSION:2.0
PRODID:-//ChamberMaster//Event Calendar 2.0//EN
METHOD:PUBLISH
X-PUBLISHED-TTL:P3D
REFRESH-INTERVAL:P3D
CALSCALE:GREGORIAN
BEGIN:VEVENT
DTSTART;VALUE=DATE:20160827
DTEND;VALUE=DATE:20160829
TRANSP:TRANSPARENT
X-MICROSOFT-CDO-ALLDAYEVENT:TRUE
SUMMARY:Rogue Music Theatre ~ ''Funny Girl''
DESCRIPTION:Rogue Music Theatre presents FUNNY GIRL\, a funny yet touching story based on the life of Fanny Brice who was never expected to go far in show business\, yet with her own form of grit and smarts made it to the top of Broadway and the Ziegfeld Follies.
X-ALT-DESC;FMTTYPE=text/html:<strong><span style="color: rgb(116\, 116\, 116)\; font-family: Oswald\, Arial\, sans-serif\; font-size: 17px\; font-style: normal\; font-variant: normal\; font-weight: 300\; letter-spacing: normal\; line-height: 24px\; orphans: auto\; text-align: start\; text-indent: 0px\; text-transform: none\; white-space: normal\; widows: 1\; word-spacing: 0px\; -webkit-text-stroke-width: 0px\; display: inline !important\; float: none\; background-color: rgb(255\, 255\, 255)\;">Rogue Music Theatre presents FUNNY GIRL\, a funny yet touching story based on the life of Fanny Brice who was never expected to go far in show business\, yet with her own form of grit and smarts made it to the top of Broadway and the Ziegfeld Follies.</span></strong>
LOCATION:Grants Pass High School Performing Arts Center
UID:e.1818.17712
SEQUENCE:3
DTSTAMP:20260425T192814Z
URL:https://business.grantspasschamber.org/events/details/rogue-music-theatre-funny-girl-08-27-2016-17712
END:VEVENT

END:VCALENDAR
