BEGIN:VCALENDAR
VERSION:2.0
PRODID:-//ChamberMaster//Event Calendar 2.0//EN
METHOD:PUBLISH
X-PUBLISHED-TTL:P3D
REFRESH-INTERVAL:P3D
CALSCALE:GREGORIAN
BEGIN:VEVENT
DTSTART;VALUE=DATE:20160925
DTEND;VALUE=DATE:20160926
TRANSP:TRANSPARENT
X-MICROSOFT-CDO-ALLDAYEVENT:TRUE
SUMMARY:Rogue River Artisan Fair
DESCRIPTION:We are calling all artisans to join us and participate in our event.\n\n\n\nThe day will be filled with live music\, live poetry\, arts & crafts\, sidewalk art & face painting for the kiddo's.\n\n\n\nThere will also be raffles & prizes\, silent auction\, art contest
X-ALT-DESC;FMTTYPE=text/html:<strong>We are calling all artisans to join us and participate in our event.</strong><br />\n<br />\n<strong>The day will be filled with live music\, live poetry\, arts &amp\; crafts\, sidewalk art &amp\; face painting for the kiddo&#39\;s.<br />\n<br />\nThere will also be raffles &amp\; prizes\, silent auction\, art contest</strong>
LOCATION:Depot St. Rogue River
UID:e.1818.17771
SEQUENCE:3
DTSTAMP:20260425T181110Z
URL:https://business.grantspasschamber.org/events/details/rogue-river-artisan-fair-17771
END:VEVENT

END:VCALENDAR
