BEGIN:VCALENDAR
VERSION:2.0
PRODID:-//ChamberMaster//Event Calendar 2.0//EN
METHOD:PUBLISH
X-PUBLISHED-TTL:P3D
REFRESH-INTERVAL:P3D
CALSCALE:GREGORIAN
BEGIN:VEVENT
DTSTART:20160514T153000Z
DTEND:20160514T210000Z
X-MICROSOFT-CDO-ALLDAYEVENT:FALSE
SUMMARY:Rogue River Clean-Up- 24th Annual
DESCRIPTION:A volunteer work project to pick up garbage from the Rogue River. Will be followed by a barbecue.
X-ALT-DESC;FMTTYPE=text/html:A volunteer work project to pick up garbage from the Rogue River. Will be followed by a barbecue.
LOCATION:Meet at Hog Creek Boat Ramp\, 4799 Galice Rd
UID:e.1818.15252
SEQUENCE:3
DTSTAMP:20260426T000029Z
URL:https://business.grantspasschamber.org/events/details/rogue-river-clean-up-24th-annual-05-14-2016-15252
END:VEVENT

END:VCALENDAR
