BEGIN:VCALENDAR
VERSION:2.0
PRODID:-//ChamberMaster//Event Calendar 2.0//EN
METHOD:PUBLISH
X-PUBLISHED-TTL:P3D
REFRESH-INTERVAL:P3D
CALSCALE:GREGORIAN
BEGIN:VEVENT
DTSTART;VALUE=DATE:20161104
DTEND;VALUE=DATE:20161106
TRANSP:TRANSPARENT
X-MICROSOFT-CDO-ALLDAYEVENT:TRUE
SUMMARY:Rogue River Florist & Gifts Annual Holiday Open House & Sale
DESCRIPTION:Fall on into our winter wonderland for our annual Holiday Open House & SALE!\n\n \n\nFREE REFRESHMENTS!\n\nRAFFLE!\n\nSAVINGS UP TO 50% OFF.\n\n \n\nNo purchase necessary to enter raffle.
X-ALT-DESC;FMTTYPE=text/html:<div><strong>Fall on into our winter wonderland for our annual Holiday Open House &amp\; SALE!</strong><br />\n&nbsp\;</div>\n\n<div><strong>FREE REFRESHMENTS!</strong></div>\n\n<div><strong>RAFFLE!</strong></div>\n\n<div><strong>SAVINGS UP TO 50% OFF.</strong></div>\n\n<div>&nbsp\;</div>\n\n<div><strong>No purchase necessary to enter raffle.</strong><br />\n&nbsp\;</div>\n
LOCATION:789 NE 7th St. (Corner of 7th & School) Grants Pass\, OR 97526 541-476-8831
UID:e.1818.18000
SEQUENCE:3
DTSTAMP:20260425T145400Z
URL:https://business.grantspasschamber.org/events/details/rogue-river-florist-gifts-annual-holiday-open-house-sale-18000
END:VEVENT

END:VCALENDAR
