BEGIN:VCALENDAR
VERSION:2.0
PRODID:-//ChamberMaster//Event Calendar 2.0//EN
METHOD:PUBLISH
X-PUBLISHED-TTL:P3D
REFRESH-INTERVAL:P3D
CALSCALE:GREGORIAN
BEGIN:VEVENT
DTSTART:20171208T230000Z
DTEND:20171210T030000Z
X-MICROSOFT-CDO-ALLDAYEVENT:FALSE
SUMMARY:Rogue Valley Christmas Market-Medford
DESCRIPTION:European Style Christmas Market Holiday Shopping in Festive Atmosphere Handmade Crafts & Gifts from Local Artisans\n\nFestive Music Hot Apple Cider\, Cocoa & Food vendors\n\nFREE ADMISSION\n\nLight up a Life *\n\n(*Donations will be accepted to benefit the Providence Hospice and in remembrance of our loved ones)
X-ALT-DESC;FMTTYPE=text/html:<strong>European Style Christmas Market Holiday Shopping in Festive Atmosphere Handmade Crafts &amp\; Gifts from Local Artisans<br />\nFestive Music Hot Apple Cider\, Cocoa &amp\; Food vendors<br />\nFREE ADMISSION<br />\nLight up a Life *<br />\n(*Donations will be accepted to benefit the Providence Hospice and in remembrance of our loved ones)</strong>
LOCATION:Fry Family Farm Store 2184 Ross Lane Medford
UID:e.1818.24708
SEQUENCE:3
DTSTAMP:20260424T163803Z
URL:https://business.grantspasschamber.org/events/details/rogue-valley-christmas-market-medford-24708
END:VEVENT

END:VCALENDAR
