BEGIN:VCALENDAR
VERSION:2.0
PRODID:-//ChamberMaster//Event Calendar 2.0//EN
METHOD:PUBLISH
X-PUBLISHED-TTL:P3D
REFRESH-INTERVAL:P3D
CALSCALE:GREGORIAN
BEGIN:VEVENT
DTSTART;VALUE=DATE:20161001
DTEND;VALUE=DATE:20161010
TRANSP:TRANSPARENT
X-MICROSOFT-CDO-ALLDAYEVENT:TRUE
SUMMARY:Rogue Valley PRIDE! Entertainment\, Activities & the Parade
DESCRIPTION:Rogue Valley PRIDE Events around the\n\nRogue Valley from Oct 1st - Oct 9th\n\nAll Events Listed at\n\n www.RogueValleyPride.org\n\n\n\nGrants Pass - Monday Madness Mixer at The Haul\n\n121 NW H Street\, Grants Pass\n\nCome have dinner at 6:00 PM and then upstairs for\n\nthe BlackLight Party Mixer at 7:00 PM! \n\n"Cover & A Can" ($2 + Canned Food for ROC Food Pantry)
X-ALT-DESC;FMTTYPE=text/html:<div style="text-align:center"><span style="font-size:18px"><span style="color:#FFFFFF"><span style="font-size:24px"><strong><span style="background-color:#4B0082">Rogue Valley PRIDE Events around the<br />\nRogue Valley from Oct 1st - Oct 9th</span></strong></span><br />\n<span style="font-size:22px"><span style="background-color:#4B0082"><span style="font-size:24px">All Events Listed at</span></span><br />\n&nbsp\;<a href="http://www.roguevalleypride.org">www.RogueValleyPride.org</a></span></span></span><br />\n<br />\n<span style="color:#FF0000"><span style="font-size:18px"><span style="font-size:22px">Grants Pass - Monday Madness Mixer at <u>The Haul</u><br />\n121 NW H Street\, Grants Pass<br />\nCome have dinner at 6:00 PM and then upstairs for<br />\nthe BlackLight Party Mixer at 7:00 PM!&nbsp\;<br />\n&quot\;Cover &amp\; A Can&quot\; ($2 + Canned Food for ROC Food Pantry)</span></span></span><br />\n&nbsp\;</div>\n
LOCATION:The Haul 121 NW H Street Grants Pass\, Oregon This event is hosted by Labrys Society to benefit RogueValleyPride.org -- a community outreach organized by Lotus Rising Project
UID:e.1818.17835
SEQUENCE:3
DTSTAMP:20260425T163052Z
URL:https://business.grantspasschamber.org/events/details/rogue-valley-pride-entertainment-activities-parade-17835
END:VEVENT

END:VCALENDAR
