BEGIN:VCALENDAR
VERSION:2.0
PRODID:-//ChamberMaster//Event Calendar 2.0//EN
METHOD:PUBLISH
X-PUBLISHED-TTL:P3D
REFRESH-INTERVAL:P3D
CALSCALE:GREGORIAN
BEGIN:VEVENT
DTSTART:20160622T190000Z
DTEND:20160622T200000Z
X-MICROSOFT-CDO-ALLDAYEVENT:FALSE
SUMMARY:Rogue Valley Republican Women
DESCRIPTION:Dennis Richardson\, Candidate for Secretary of State will be Speaking at our June 22nd meeting.\n\n\n\nDoors open at 11:30 AM\, Meeting starts at 12:00 PM. No RSVP needed. Any questions? Contact Nancy Trahern\, RVRW President at 541-660-1600
X-ALT-DESC;FMTTYPE=text/html:<strong>Dennis Richardson\, Candidate for Secretary of State will be Speaking at our June 22nd meeting.<br />\n<br />\nDoors open at 11:30 AM\, Meeting starts at 12:00 PM. No RSVP needed. Any questions? Contact Nancy Trahern\, RVRW President at 541-660-1600</strong>
LOCATION:Elmer's Restaurant 175 NE Agness Ave\, Grants Pass
UID:e.1818.17605
SEQUENCE:3
DTSTAMP:20260425T223941Z
URL:https://business.grantspasschamber.org/events/details/rogue-valley-republican-women-06-22-2016-17605
END:VEVENT

END:VCALENDAR
