BEGIN:VCALENDAR
VERSION:2.0
PRODID:-//ChamberMaster//Event Calendar 2.0//EN
METHOD:PUBLISH
X-PUBLISHED-TTL:P3D
REFRESH-INTERVAL:P3D
CALSCALE:GREGORIAN
BEGIN:VEVENT
DTSTART:20160824T190000Z
DTEND:20160824T200000Z
X-MICROSOFT-CDO-ALLDAYEVENT:FALSE
SUMMARY:Rogue Valley Republican Women Meeting
DESCRIPTION:Meet Commissioner Candidates Keith Heck and Lily Morgan Wednesday\, August 24\, at Elmer's Restaurant in Grants Pass\, Rogue Valley Republican Women will host Commissioner Keith Heck\, seeking a second term in position #2 and Lily Morgan running for position #3.\n\n\n\nDoors open at 11:30 AM and the speakers will begin at Noon. Any questions? Please contact Nancy Trahern RVRW President 541-660-1600 nancyt@roguevalleyrw.com
X-ALT-DESC;FMTTYPE=text/html:<strong>Meet Commissioner Candidates Keith Heck and Lily Morgan Wednesday\, August 24\, at Elmer&#39\;s Restaurant in Grants Pass\, Rogue Valley Republican Women will host Commissioner Keith Heck\, seeking a second term in position #2 and Lily Morgan running for position #3.<br />\n<br />\nDoors open at 11:30 AM and the speakers will begin at Noon. Any questions? Please contact Nancy Trahern RVRW President 541-660-1600 nancyt@roguevalleyrw.com</strong>
LOCATION:Elmer's Restaurant
UID:e.1818.17747
SEQUENCE:3
DTSTAMP:20260425T192633Z
URL:https://business.grantspasschamber.org/events/details/rogue-valley-republican-women-meeting-08-24-2016-17747
END:VEVENT

END:VCALENDAR
