BEGIN:VCALENDAR
VERSION:2.0
PRODID:-//ChamberMaster//Event Calendar 2.0//EN
METHOD:PUBLISH
X-PUBLISHED-TTL:P3D
REFRESH-INTERVAL:P3D
CALSCALE:GREGORIAN
BEGIN:VEVENT
DTSTART:20180421T010000Z
DTEND:20180422T050000Z
X-MICROSOFT-CDO-ALLDAYEVENT:FALSE
SUMMARY:Rogue Valley Rough Stock Rodeo ~ 5th Annual Dodge of GP & McCaslin Rodeos
DESCRIPTION:"Bring Friends & Family and join us for a\n\nNight of Thrilling Rodeo Action"\n\nBUCK YEAH ! ! !\n\nEvent includes Bareback Riding\, Saddle Bronc Riding\, Bull Riding\, Women's Barrel Racing\, Stick Horse Riding for Kids\, Bull Riding and............\n\nSpecial Performance by:  Freedom Riders/ McCaslin Rodeo Drill Team\n\n\n\nTickets at these Sponsor Locations:\n\nBoot Barn\, Medford ~ Cowboy Corral ~  ~ Victoria Station\, Merlin\, South 40 Feed Store\, Cutting Crew and at the gate.
X-ALT-DESC;FMTTYPE=text/html:<span style="font-size:16px\;"><em><strong>&quot\;Bring Friends &amp\; Family and join us for a<br />\nNight of Thrilling Rodeo Action&quot\;<br />\nBUCK YEAH ! ! !<br />\n<span style="font-size:12px\;">Event includes Bareback Riding\, Saddle Bronc Riding\, Bull Riding\, Women&#39\;s Barrel Racing\, Stick Horse Riding for Kids\, Bull Riding and............<br />\n<u>Special Performance by:&nbsp\; Freedom Riders/ McCaslin Rodeo Drill Team</u></span></strong></em></span><br />\n<br />\n<strong><u>Tickets at these Sponsor Locations:</u><br />\nBoot Barn\, Medford ~ Cowboy Corral ~ &nbsp\;~ Victoria Station\, Merlin\, South 40 Feed Store\, Cutting Crew and at the gate.</strong>
LOCATION:Josephine County Fairgrounds 1451 Fairgrounds Road Grants Pass
UID:e.1818.25526
SEQUENCE:3
DTSTAMP:20260424T051119Z
URL:https://business.grantspasschamber.org/events/details/rogue-valley-rough-stock-rodeo-5th-annual-dodge-of-gp-mccaslin-rodeos-25526
END:VEVENT

END:VCALENDAR
