BEGIN:VCALENDAR
VERSION:2.0
PRODID:-//ChamberMaster//Event Calendar 2.0//EN
METHOD:PUBLISH
X-PUBLISHED-TTL:P3D
REFRESH-INTERVAL:P3D
CALSCALE:GREGORIAN
BEGIN:VEVENT
DTSTART;VALUE=DATE:20161022
DTEND;VALUE=DATE:20161023
TRANSP:TRANSPARENT
X-MICROSOFT-CDO-ALLDAYEVENT:TRUE
SUMMARY:Rogue Valley Scorpions ~ Season Opener
DESCRIPTION:"Battle for the Pacific Northwest" starts with The Rogue Valley Scorpions season opener on October 22nd at 5:00pm\n\n\n\n\n\nRogue Valley Scorpions vs. Seattle Wheelchair Sonics\n\n\n\nSchedule:\n\nOctober 22nd\n\nDecember 17th\n\nFebruary 4th\n\n\n\nHalftime entertainment by Kalani Ahmad aka KalaniBallFree (from America's Got Talent) https://www.kalanibasketballfreestyle.com/
X-ALT-DESC;FMTTYPE=text/html:<br />\n<strong>&quot\;Battle for the Pacific Northwest&quot\; starts with The Rogue Valley Scorpions <u>season opener </u>on October 22nd at 5:00pm<br />\n<br />\n<br />\n<u>Rogue Valley Scorpions vs. Seattle Wheelchair Sonics</u></strong><br />\n<br />\n<strong><u>Schedule</u>:<br />\nOctober 22nd<br />\nDecember 17th<br />\nFebruary 4th<br />\n<br />\n<span style="color: rgb(75\, 79\, 86)\; font-family: helvetica\, arial\, sans-serif\; font-size: 14px\; font-style: normal\; font-variant-ligatures: normal\; font-variant-caps: normal\; font-weight: normal\; letter-spacing: normal\; orphans: 2\; text-align: start\; text-indent: 0px\; text-transform: none\; white-space: normal\; widows: 2\; word-spacing: 0px\; -webkit-text-stroke-width: 0px\; background-color: rgb(255\, 255\, 255)\; display: inline !important\; float: none\;">Halftime entertainment by Kalani Ahmad aka KalaniBallFree (from America&rsquo\;s Got Talent) </span><a href="https://www.kalanibasketballfreestyle.com/" rel="nofollow nofollow" style="color: rgb(54\, 88\, 153)\; cursor: pointer\; text-decoration: none\; font-family: helvetica\, arial\, sans-serif\; font-size: 14px\; font-style: normal\; font-variant-ligatures: normal\; font-variant-caps: normal\; font-weight: normal\; letter-spacing: normal\; orphans: 2\; text-align: start\; text-indent: 0px\; text-transform: none\; white-space: normal\; widows: 2\; word-spacing: 0px\; -webkit-text-stroke-width: 0px\; background-color: rgb(255\, 255\, 255)\;" target="_blank"><span style="font-family: inherit\;">https://</span><wbr /><span style="font-family: inherit\;">www.kalanibasketballfreesty</span><wbr />le.com/</a></strong>
LOCATION:Central High School 815 S. Oakdale Avenue Medford\, OR
UID:e.1818.17908
SEQUENCE:3
DTSTAMP:20260425T163258Z
URL:https://business.grantspasschamber.org/events/details/rogue-valley-scorpions-season-opener-17908
END:VEVENT

END:VCALENDAR
