BEGIN:VCALENDAR
VERSION:2.0
PRODID:-//ChamberMaster//Event Calendar 2.0//EN
METHOD:PUBLISH
X-PUBLISHED-TTL:P3D
REFRESH-INTERVAL:P3D
CALSCALE:GREGORIAN
BEGIN:VEVENT
DTSTART:20161023T220000Z
DTEND:20161024T000000Z
X-MICROSOFT-CDO-ALLDAYEVENT:FALSE
SUMMARY:Rogue Valley Symphony Masterworks 1
DESCRIPTION:Violinist Jennifer Frautschi will be featured on Tchaikovsky's Violin Concerto.\n\n\n\nThe orchestra will also perform Rautavaara's "Anadyomene" and Shostakovich's Symphony No. 9. Conductor Martin Majkut will give a pre-concert talk one hour before the performance begins.
X-ALT-DESC;FMTTYPE=text/html:<strong>Violinist Jennifer Frautschi will be featured on Tchaikovsky&#39\;s Violin Concerto.<br />\n<br />\nThe orchestra will also perform Rautavaara&#39\;s &quot\;Anadyomene&quot\; and Shostakovich&#39\;s Symphony No. 9. Conductor Martin Majkut will give a pre-concert talk one hour before the performance begins.</strong>
LOCATION:Grants Pass High School Performing Arts Center\, 313 NE Olive St Grants Pass
UID:e.1818.17851
SEQUENCE:3
DTSTAMP:20260425T162755Z
URL:https://business.grantspasschamber.org/events/details/rogue-valley-symphony-masterworks-1-17851
END:VEVENT

END:VCALENDAR
