BEGIN:VCALENDAR
VERSION:2.0
PRODID:-//ChamberMaster//Event Calendar 2.0//EN
METHOD:PUBLISH
X-PUBLISHED-TTL:P3D
REFRESH-INTERVAL:P3D
CALSCALE:GREGORIAN
BEGIN:VEVENT
DTSTART:20160424T220000Z
DTEND:20160424T220000Z
X-MICROSOFT-CDO-ALLDAYEVENT:FALSE
SUMMARY:Rogue Valley Symphony: Masterworks 5\, Alexander Schimpf
DESCRIPTION:Mendelssohn: The Hebrides Brahms: Piano Concerto No. 2 - Alexander Schimpf\, piano Debussy: La Mer
X-ALT-DESC;FMTTYPE=text/html:<strong>Mendelssohn: The Hebrides Brahms: Piano Concerto No. 2 - Alexander Schimpf\, piano Debussy: La Mer</strong>
LOCATION:Grants Pass High School Performing Arts Center
UID:e.1818.15589
SEQUENCE:3
DTSTAMP:20260426T013438Z
URL:https://business.grantspasschamber.org/events/details/rogue-valley-symphony-masterworks-5-alexander-schimpf-04-24-2016-15589
END:VEVENT

END:VCALENDAR
