BEGIN:VCALENDAR
VERSION:2.0
PRODID:-//ChamberMaster//Event Calendar 2.0//EN
METHOD:PUBLISH
X-PUBLISHED-TTL:P3D
REFRESH-INTERVAL:P3D
CALSCALE:GREGORIAN
BEGIN:VEVENT
DTSTART:20160918T023000Z
DTEND:20160918T043000Z
X-MICROSOFT-CDO-ALLDAYEVENT:FALSE
SUMMARY:Ronnie Kole - JoCo Community Concerts
DESCRIPTION:The Josephine County Community Concert Association welcomes Ronnie Kole as its season opener.\n\n\n\nThis New Orleans musical legend is a pianist/entertainer who is a class act and consummate performer.\n\n\n\nKole is popular in both his own country and overseas. Kole is a piano man's piano man\, admired by many top stars in the business\, from Harry Connick Jr. to Allen Toussaint.
X-ALT-DESC;FMTTYPE=text/html:<strong>The Josephine County Community Concert Association welcomes Ronnie Kole as its season opener.<br />\n<br />\nThis New Orleans musical legend is a pianist/entertainer who is a class act and consummate performer.<br />\n<br />\nKole is popular in both his own country and overseas. Kole is a piano man&rsquo\;s piano man\, admired by many top stars in the business\, from Harry Connick Jr. to Allen Toussaint.</strong>
LOCATION:Grants Pass Performing Arts Center
UID:e.1818.17799
SEQUENCE:3
DTSTAMP:20260425T181404Z
URL:https://business.grantspasschamber.org/events/details/ronnie-kole-joco-community-concerts-17799
END:VEVENT

END:VCALENDAR
