BEGIN:VCALENDAR
VERSION:2.0
PRODID:-//ChamberMaster//Event Calendar 2.0//EN
METHOD:PUBLISH
X-PUBLISHED-TTL:P3D
REFRESH-INTERVAL:P3D
CALSCALE:GREGORIAN
BEGIN:VEVENT
DTSTART;VALUE=DATE:20160624
DTEND;VALUE=DATE:20160627
TRANSP:TRANSPARENT
X-MICROSOFT-CDO-ALLDAYEVENT:TRUE
SUMMARY:Rooster Crow Contest 2016 ~ 63rd Annual
DESCRIPTION:The main annual celebration in Rogue River. Includes rooster and human crowing contests\, a carnival\, parade\, car show\, arts and crafts\, book sale\, and live music.\n\n\n\n\n\nFun for the entire family
X-ALT-DESC;FMTTYPE=text/html:<strong>The main annual celebration in Rogue River. Includes rooster and human crowing contests\, a carnival\, parade\, car show\, arts and crafts\, book sale\, and live music.<br />\n<br />\n<br />\nFun for the entire family</strong>
LOCATION:Rogue River
UID:e.1818.15271
SEQUENCE:3
DTSTAMP:20260425T224012Z
URL:https://business.grantspasschamber.org/events/details/rooster-crow-contest-2016-63rd-annual-06-24-2016-15271
END:VEVENT

END:VCALENDAR
