BEGIN:VCALENDAR
VERSION:2.0
PRODID:-//ChamberMaster//Event Calendar 2.0//EN
METHOD:PUBLISH
X-PUBLISHED-TTL:P3D
REFRESH-INTERVAL:P3D
CALSCALE:GREGORIAN
BEGIN:VEVENT
DTSTART;VALUE=DATE:20160604
DTEND;VALUE=DATE:20160605
TRANSP:TRANSPARENT
X-MICROSOFT-CDO-ALLDAYEVENT:TRUE
SUMMARY:Rose Festival ~ Rogue Valley Rose Society
DESCRIPTION:A rose celebration with rose displays\, roses for sale\, demonstrations\, and vendors. Sponsored by the Rogue Valley Rose Society.\n\n\n\nLovely roses to see and smell\, with experts on hand to answer questions.\n\n\n\nVendors will be selling roses\, companion plants\, garden crafts\, organic fertilizers\, and more.\n\n\n\nDemonstrations will be held:\n\n 11:00am ~ Companion Planting With Roses\n\n 12:pm ~ Crafting With Roses\n\n 1:00pm ~ Hanging Baskets With & Without Roses
X-ALT-DESC;FMTTYPE=text/html:<strong>A rose celebration with rose displays\, roses for sale\, demonstrations\, and vendors. Sponsored by the Rogue Valley Rose Society.<br />\n<br />\nLovely roses to see and smell\, with experts on hand to answer questions.<br />\n<br />\nVendors will be selling roses\, companion plants\, garden crafts\, organic fertilizers\, and more.<br />\n<br />\n<span style="font-size:16px\;"><u>Demonstrations will be held:</u></span><br />\n&nbsp\;11:00am ~ Companion Planting With Roses<br />\n&nbsp\;12:pm ~ Crafting With Roses<br />\n&nbsp\;1:00pm ~ Hanging Baskets With &amp\; Without Roses</strong>
LOCATION:Josephine County Fairgrounds Grants Pass
UID:e.1818.15258
SEQUENCE:3
DTSTAMP:20260425T224202Z
URL:https://business.grantspasschamber.org/events/details/rose-festival-rogue-valley-rose-society-06-04-2016-15258
END:VEVENT

END:VCALENDAR
