BEGIN:VCALENDAR
VERSION:2.0
PRODID:-//ChamberMaster//Event Calendar 2.0//EN
METHOD:PUBLISH
X-PUBLISHED-TTL:P3D
REFRESH-INTERVAL:P3D
CALSCALE:GREGORIAN
BEGIN:VEVENT
DTSTART:20180602T170000Z
DTEND:20180602T220000Z
X-MICROSOFT-CDO-ALLDAYEVENT:FALSE
SUMMARY:Rose Festival ~ Rogue Valley Rose Society
DESCRIPTION:The Rogue Valley Rose Society is sponsoring this event. There will be rose displays\, roses for sale\, demonstrations\, and vendors It is being held at the Josephine County Fairgrounds\n\n\n\nThere will be a variety of fun and fascinating rose- and garden-related displays\, presentations\, and helpful information for all to enjoy.  Vendors will offer roses\, companion plants\, garden crafts and structures and other "rosy" items for sale\, and experts will share information on the benefits of bees and worm compost in our gardens.  Cut roses and rose arrangements will be on display\, rose experts will help answer your rose questions and suggest the best methods to grow healthy roses in the Rogue Valley. This year we will also feature a workshop for kids to let them express their creativity using florals! \n\n\n\nSchedule of Events:  \n\n9:00   10:00 AM      Entries of cut roses received \n\n \n\n10:00 AM                  Doors open\n\n \n\n10:00 AM   1 PM     "Kids' Rose Crafts and Activities" Workshop\n\n                                     Sara Scott of the Imagine That Creative Children's Center  \n\n \n\n11:00 AM                  PRESENTATION:  "Bees in the Garden" \n\n                                    Sharon Schmidt\, Cascade Girl Organization  \n\n \n\n1:00 PM                    PRESENTATION:  "Techniques for Propagating Roses" \n\n                                    Rosenelle Florencechild and Ingrid Wapelhorst of the RVRS \n\n     \n\nAdmission is FREE!\n\n \n\n            GREAT Raffle prizes awarded throughout the day!\n\n \n\nCut roses and more for sale\, too!\n\n\n\n\n\nBring cut roses from your garden (with names\, if possible) between 9:00   10:00 a.m. to display along with the others.  Don't know the names of your roses?  Bring them along\, and we'll see if our experts can identify them for you!  All attendees will be given a ballot to vote on their favorite roses and arrangements.
X-ALT-DESC;FMTTYPE=text/html:<strong>The Rogue Valley Rose Society is sponsoring this event. There will be rose displays\, roses for sale\, demonstrations\, and vendors It is being held at the Josephine County Fairgrounds</strong><br />\n<br />\n<span style="font-family:times new roman\,serif\;"><span style="font-size:12.0pt\;">There will be a variety of fun and fascinating rose- and garden-related displays\, presentations\, and helpful information for all to enjoy.&nbsp\; Vendors will offer roses\, companion plants\, garden crafts and structures and other &ldquo\;rosy&rdquo\; items for sale\, and experts will share information on the benefits of bees and worm compost in our gardens.&nbsp\; Cut roses and rose arrangements will be on display\, rose experts will help answer your rose questions and suggest the best methods to grow healthy roses in the Rogue Valley. This year we will also feature a workshop for kids to let them express their creativity using florals!&nbsp\;</span></span><br />\n<br />\n<strong><u><span style="font-family:times new roman\,serif\;"><span style="font-size:12.0pt\;">Schedule of Events</span></span></u></strong><strong><span style="font-family:times new roman\,serif\;"><span style="font-size:12.0pt\;">:&nbsp\; </span></span></strong><br />\n<span style="font-family:times new roman\,serif\;"><span style="font-size:12.0pt\;">9:00 &ndash\; 10:00 AM &nbsp\;&nbsp\;&ndash\; &nbsp\;Entries of cut roses received </span></span><br />\n&nbsp\;<br />\n<span style="font-family:times new roman\,serif\;"><span style="font-size:12.0pt\;">10:00 AM&nbsp\; &nbsp\;&nbsp\;&nbsp\;&nbsp\;&nbsp\;&nbsp\;&nbsp\;&nbsp\;&nbsp\;&nbsp\;&nbsp\;&nbsp\;<a name="_Hlk512599092">&ndash\;</a>&nbsp\;&nbsp\; Doors open</span></span><br />\n&nbsp\;<br />\n<span style="font-family:times new roman\,serif\;"><span style="font-size:12.0pt\;">10:00 AM &ndash\; 1 PM&nbsp\; &ndash\;&nbsp\; &ldquo\;Kids&rsquo\; Rose Crafts and Activities&rdquo\; Workshop</span></span><br />\n<span style="font-family:times new roman\,serif\;"><span style="font-size:12.0pt\;">&nbsp\;&nbsp\;&nbsp\;&nbsp\;&nbsp\;&nbsp\;&nbsp\;&nbsp\;&nbsp\;&nbsp\;&nbsp\;&nbsp\;&nbsp\;&nbsp\;&nbsp\;&nbsp\;&nbsp\;&nbsp\;&nbsp\;&nbsp\;&nbsp\;&nbsp\;&nbsp\;&nbsp\;&nbsp\;&nbsp\;&nbsp\;&nbsp\;&nbsp\;&nbsp\;&nbsp\;&nbsp\;&nbsp\;&nbsp\;&nbsp\;&nbsp\; Sara Scott of the Imagine That&hellip\;Creative Children&rsquo\;s Center&nbsp\; </span></span><br />\n&nbsp\;<br />\n<span style="font-family:times new roman\,serif\;"><span style="font-size:12.0pt\;">11:00 AM&nbsp\;&nbsp\; &nbsp\;&nbsp\;&nbsp\;&nbsp\;&nbsp\;&nbsp\;&nbsp\;&nbsp\;&nbsp\;&nbsp\;&nbsp\;&ndash\;&nbsp\;&nbsp\; PRESENTATION:&nbsp\; &ldquo\;Bees in the Garden&rdquo\; </span></span><br />\n<span style="font-family:times new roman\,serif\;"><span style="font-size:12.0pt\;">&nbsp\;&nbsp\;&nbsp\;&nbsp\;&nbsp\;&nbsp\;&nbsp\;&nbsp\;&nbsp\;&nbsp\;&nbsp\;&nbsp\;&nbsp\;&nbsp\;&nbsp\;&nbsp\;&nbsp\;&nbsp\;&nbsp\;&nbsp\;&nbsp\;&nbsp\;&nbsp\; &nbsp\;&nbsp\;&nbsp\;&nbsp\;&nbsp\;&nbsp\;&nbsp\;&nbsp\;&nbsp\;&nbsp\;&nbsp\;&nbsp\;Sharon Schmidt\, Cascade Girl Organization &nbsp\;</span></span><br />\n&nbsp\;<br />\n<span style="font-family:times new roman\,serif\;"><span style="font-size:12.0pt\;">1:00 PM&nbsp\;&nbsp\; &nbsp\;&nbsp\;&nbsp\;&nbsp\;&nbsp\;&nbsp\;&nbsp\;&nbsp\;&nbsp\;&nbsp\;&nbsp\;&nbsp\;&nbsp\;&ndash\;&nbsp\;&nbsp\; PRESENTATION:&nbsp\; &ldquo\;Techniques for Propagating Roses&rdquo\; </span></span><br />\n<span style="font-family:times new roman\,serif\;"><span style="font-size:12.0pt\;">&nbsp\;&nbsp\;&nbsp\;&nbsp\;&nbsp\;&nbsp\;&nbsp\;&nbsp\;&nbsp\;&nbsp\;&nbsp\;&nbsp\;&nbsp\;&nbsp\;&nbsp\;&nbsp\;&nbsp\;&nbsp\;&nbsp\;&nbsp\;&nbsp\;&nbsp\;&nbsp\;&nbsp\;&nbsp\;&nbsp\;&nbsp\;&nbsp\;&nbsp\;&nbsp\;&nbsp\;&nbsp\;&nbsp\;&nbsp\;&nbsp\; Rosenelle Florencechild and Ingrid Wapelhorst of the RVRS </span></span><br />\n&nbsp\;&nbsp\;&nbsp\;&nbsp\;&nbsp\;<br />\n<strong><span style="font-family:times new roman\,serif\;"><span style="font-size:12.0pt\;">Admission is FREE!</span></span></strong><br />\n&nbsp\;<br />\n<strong><span style="font-family:times new roman\,serif\;"><span style="font-size:12.0pt\;">&nbsp\;&nbsp\;&nbsp\;&nbsp\;&nbsp\;&nbsp\;&nbsp\;&nbsp\;&nbsp\;&nbsp\;&nbsp\; GREAT Raffle prizes awarded throughout the day!</span></span></strong><br />\n&nbsp\;<br />\n<strong><span style="font-family:times new roman\,serif\;"><span style="font-size:12.0pt\;">Cut roses and more for sale\, too!</span></span></strong><br />\n<br />\n<br />\n<span style="font-family:times new roman\,serif\;"><span style="font-size:12.0pt\;">Bring cut roses from your garden (with names\, if possible) between 9:00 &ndash\; 10:00 a.m. to display along with the others.&nbsp\; Don&rsquo\;t know the names of your roses?&nbsp\; Bring them along\, and we&rsquo\;ll see if our experts can identify them for you!&nbsp\; All attendees will be given a ballot to vote on their favorite roses and arrangements.</span></span><br />\n&nbsp\;<br />\n&nbsp\;
LOCATION:The Josephine County Fairgrounds Floral Building
UID:e.1818.28775
SEQUENCE:3
DTSTAMP:20260424T013024Z
URL:https://business.grantspasschamber.org/events/details/rose-festival-rogue-valley-rose-society-28775
END:VEVENT

END:VCALENDAR
