BEGIN:VCALENDAR
VERSION:2.0
PRODID:-//ChamberMaster//Event Calendar 2.0//EN
METHOD:PUBLISH
X-PUBLISHED-TTL:P3D
REFRESH-INTERVAL:P3D
CALSCALE:GREGORIAN
BEGIN:VEVENT
DTSTART:20160312T200000Z
DTEND:20160312T200000Z
X-MICROSOFT-CDO-ALLDAYEVENT:FALSE
SUMMARY:Rose Pruning Demonstrations
DESCRIPTION:Sponsored by the Rogue Valley Rose Society.
X-ALT-DESC;FMTTYPE=text/html:Sponsored by the Rogue Valley Rose Society.
LOCATION:Riverside Park
UID:e.1818.14437
SEQUENCE:3
DTSTAMP:20260426T030333Z
URL:https://business.grantspasschamber.org/events/details/rose-pruning-demonstrations-03-12-2016-14437
END:VEVENT

END:VCALENDAR
