BEGIN:VCALENDAR
VERSION:2.0
PRODID:-//ChamberMaster//Event Calendar 2.0//EN
METHOD:PUBLISH
X-PUBLISHED-TTL:P3D
REFRESH-INTERVAL:P3D
CALSCALE:GREGORIAN
BEGIN:VEVENT
DTSTART;VALUE=DATE:20161006
DTEND;VALUE=DATE:20161007
TRANSP:TRANSPARENT
X-MICROSOFT-CDO-ALLDAYEVENT:TRUE
SUMMARY:Rotary Octoberfest Fellowship/ Polio Fundraiser
DESCRIPTION:Don't Miss Out on this Rotary "Octoberfest" Fellowship/ Polio Plus event which includes a German dinner\, beer samples from 5 local brewers\, fellowship and fundraising for Polio Plus.\n\n\n\nEach brewer will talk about their beer. Beer-trivia with prizes & games.\n\n\n\nGuests & Friends Welcome ! ! !  No Host Bar.
X-ALT-DESC;FMTTYPE=text/html:<strong>Don&#39\;t Miss Out on this Rotary &quot\;Octoberfest&quot\; Fellowship/ Polio Plus event which includes a German dinner\, beer samples from 5 local brewers\, fellowship and fundraising for Polio Plus.<br />\n<br />\nEach brewer will talk about their beer. Beer-trivia with prizes &amp\; games.<br />\n<br />\nGuests &amp\; Friends Welcome ! ! !&nbsp\; No Host Bar.</strong>
LOCATION:Taprock Event Center
UID:e.1818.17864
SEQUENCE:3
DTSTAMP:20260425T163050Z
URL:https://business.grantspasschamber.org/events/details/rotary-octoberfest-fellowship-polio-fundraiser-17864
END:VEVENT

END:VCALENDAR
