BEGIN:VCALENDAR
VERSION:2.0
PRODID:-//ChamberMaster//Event Calendar 2.0//EN
METHOD:PUBLISH
X-PUBLISHED-TTL:P3D
REFRESH-INTERVAL:P3D
CALSCALE:GREGORIAN
BEGIN:VEVENT
DTSTART:20160409T190000Z
DTEND:20160409T190000Z
X-MICROSOFT-CDO-ALLDAYEVENT:FALSE
SUMMARY:Royal Kids Family Banquet & Auction ~ 6th Annual
DESCRIPTION:"Sowing Seeds of Hope"\n\nThe Royal Family Kids Banquet benefits abused and neglected children. Confronting abuse & changing lives
X-ALT-DESC;FMTTYPE=text/html:<strong><u>&quot\;Sowing Seeds of Hope&quot\;</u><br />\nThe Royal Family Kids Banquet benefits abused and neglected children. Confronting abuse &amp\; changing lives</strong>
LOCATION:Parkway Christian Center 229 NE Beacon Drive Grants Pass
UID:e.1818.15230
SEQUENCE:3
DTSTAMP:20260426T013827Z
URL:https://business.grantspasschamber.org/events/details/royal-kids-family-banquet-auction-6th-annual-04-09-2016-15230
END:VEVENT

END:VCALENDAR
