BEGIN:VCALENDAR
VERSION:2.0
PRODID:-//ChamberMaster//Event Calendar 2.0//EN
METHOD:PUBLISH
X-PUBLISHED-TTL:P3D
REFRESH-INTERVAL:P3D
CALSCALE:GREGORIAN
BEGIN:VEVENT
DTSTART:20160305T200000Z
DTEND:20160305T200000Z
X-MICROSOFT-CDO-ALLDAYEVENT:FALSE
SUMMARY:Run for the Law ~ Fundraiser
DESCRIPTION:A 10k run or 5k walk/run and kids' dash.\n\nBenefits Securing our Safety.\n\nWe want 1\,000 people at this year's event ! ! !\n\nVolunteers Needed to work a corner along a race.
X-ALT-DESC;FMTTYPE=text/html:<strong>A 10k run or 5k walk/run and kids&#39\; dash.<br />\nBenefits Securing our Safety.</strong><br />\n<span style="font-size:16px\;"><u><strong>We want 1\,000 people at this year&#39\;s event ! ! !</strong></u><br />\n<em><strong>Volunteers Needed to work a corner along a race.</strong></em></span><br />\n&nbsp\;
LOCATION:Club Northwest Packet PickUp the day before on March 4th at Club Northwest from 2p - 7pm
UID:e.1818.14435
SEQUENCE:3
DTSTAMP:20260426T030650Z
URL:https://business.grantspasschamber.org/events/details/run-for-the-law-fundraiser-03-05-2016-14435
END:VEVENT

END:VCALENDAR
