BEGIN:VCALENDAR
VERSION:2.0
PRODID:-//ChamberMaster//Event Calendar 2.0//EN
METHOD:PUBLISH
X-PUBLISHED-TTL:P3D
REFRESH-INTERVAL:P3D
CALSCALE:GREGORIAN
BEGIN:VEVENT
DTSTART:20160830T010000Z
DTEND:20160830T040000Z
X-MICROSOFT-CDO-ALLDAYEVENT:FALSE
SUMMARY:S.O.R.A Evening Speaker ~ Once a Month Monday Meeting
DESCRIPTION:Two great speakers at our once a month Monday Evening meeting.\n\n\n\nKeith Cubic will speak on "one size zoning doesn't fit all counties like Douglas\, Josephine & Jackson County".\n\n\n\nAaron Cubic\, City Manager for Grants Pass will speak\, "State of the City of Grants Pass".\n\n\n\nHave your dinner orders in by 5pm and the Speakers start at 6pm\n\n\n\nEach speaker will have 20 minutes for topic\, and ten minutes of questions.
X-ALT-DESC;FMTTYPE=text/html:<strong>Two great speakers at our once a month Monday Evening meeting.<br />\n<br />\n<u>Keith Cubic </u>will speak on &quot\;one size zoning doesn&#39\;t fit all counties like Douglas\, Josephine &amp\; Jackson County&quot\;.<br />\n<br />\n<u>Aaron Cubic</u>\, City Manager for Grants Pass will speak\, &quot\;State of the City of Grants Pass&quot\;.<br />\n<br />\nHave your dinner orders in by 5pm and the Speakers start at 6pm<br />\n<br />\nEach speaker will have 20 minutes for topic\, and ten minutes of questions.</strong>
LOCATION:Elmer's Restaurant 175 Agness Grants Pass
UID:e.1818.17753
SEQUENCE:3
DTSTAMP:20260425T192532Z
URL:https://business.grantspasschamber.org/events/details/s-o-r-a-evening-speaker-once-a-month-monday-meeting-17753
END:VEVENT

END:VCALENDAR
