BEGIN:VCALENDAR
VERSION:2.0
PRODID:-//ChamberMaster//Event Calendar 2.0//EN
METHOD:PUBLISH
X-PUBLISHED-TTL:P3D
REFRESH-INTERVAL:P3D
CALSCALE:GREGORIAN
BEGIN:VEVENT
DTSTART;VALUE=DATE:20161128
DTEND;VALUE=DATE:20161129
TRANSP:TRANSPARENT
X-MICROSOFT-CDO-ALLDAYEVENT:TRUE
SUMMARY:S.O.R.A Evening Speaker ~ Once a Month Monday Meeting
DESCRIPTION:Our guest speaker: Monday November 28th\n\n \n\nLee Bradshaw\n\nCattleman in Southern Oregon and member of the Cattleman's Association\n\n \n\nRemember the old saying "where's the beef"? Well do you know what it takes to get the beef to you?\n\n\n\nPlus we may learn why anyone would want to be a cattleman\; hear it from the horse's mouth so to speak?\n\nMost Americans have no clue what it takes bring it to a calf market\, the cost involve\, and why it is necessary to graze on public lands both a benefit to those lands and the cattleman's bottom line.\n\n \n\nBring your questions\, enjoy a great meal with beef and meet new friends.\n\nJust a side note\; did you know that beef is less fattening than chicken?\n\n\n\nRon Ruby - "I met Lee and other great dedicated cattlemen who stood in opposition to the expansion the Cascade-Siskiyou Monument at the staged meeting held by Senators Merkley and Wyden at the Southern Oregon University campus last month". -
X-ALT-DESC;FMTTYPE=text/html:<u><strong><span style="color:black\;"><span style="font-family:arial\,sans-serif\;"><span style="font-size:14.0pt\;">Our guest speaker: Monday November 28<sup>th</sup></span></span></span></strong></u><br />\n&nbsp\;<br />\n<span style="font-size:18px\;"><strong><span style="color: black\;"><span style="font-family: arial\,sans-serif\;">Lee Bradshaw</span></span></strong></span><br />\n<u><em><strong><span style="color:black\;"><span style="font-family:arial\,sans-serif\;"><span style="font-size:14.0pt\;">Cattleman in Southern Oregon and member of the Cattleman&rsquo\;s Association</span></span></span></strong></em></u><br />\n&nbsp\;<br />\n<span style="color:black\;"><span style="font-family:arial\,sans-serif\;"><span style="font-size:14.0pt\;">Remember the old saying &ldquo\;<strong>where&rsquo\;s the beef</strong>&rdquo\;? Well do you know what it takes to get the beef to you?<br />\n<br />\n<u><span style="font-size:14px\;">Plus we may learn why anyone would want to be a cattleman\; hear it from the horse&rsquo\;s mouth so to speak?</span></u><br />\n<em><strong>Most Americans have no clue what it takes bring it to a calf market\, the cost involve\, and why it is necessary to graze on public lands both a benefit to those lands and the cattleman&rsquo\;s bottom line.</strong></em></span></span></span><br />\n<em><strong>&nbsp\;</strong></em><br />\n<u><strong><span style="color:black\;"><span style="font-family:arial\,sans-serif\;"><span style="font-size:14.0pt\;">Bring your questions\, enjoy a great meal with beef and meet new friends.</span></span></span></strong></u><br />\n<span style="color:black\;"><span style="font-family:arial\,sans-serif\;"><span style="font-size:14.0pt\;">Just a side note\; did you know that beef is less fattening than chicken?<br />\n<br />\n<span style="font-size:14px\;"><u>Ron Ruby</u> - &quot\;I met Lee and other great dedicated cattlemen who stood in opposition to the expansion the Cascade-Siskiyou Monument at the staged meeting held by Senators Merkley and Wyden at the Southern Oregon University campus last month&quot\;. - </span></span></span></span><br />\n<br />\n<br />\n<br />\n&nbsp\;
LOCATION:Elmer's Restaurant (Parkway & Agnes) In back area meeting room
UID:e.1818.18086
SEQUENCE:3
DTSTAMP:20260425T145338Z
URL:https://business.grantspasschamber.org/events/details/s-o-r-a-evening-speaker-once-a-month-monday-meeting-18086
END:VEVENT

END:VCALENDAR
