BEGIN:VCALENDAR
VERSION:2.0
PRODID:-//ChamberMaster//Event Calendar 2.0//EN
METHOD:PUBLISH
X-PUBLISHED-TTL:P3D
REFRESH-INTERVAL:P3D
CALSCALE:GREGORIAN
BEGIN:VEVENT
DTSTART;VALUE=DATE:20160514
DTEND;VALUE=DATE:20160515
TRANSP:TRANSPARENT
X-MICROSOFT-CDO-ALLDAYEVENT:TRUE
SUMMARY:Safety Fair ~ 6th Annual
DESCRIPTION:Free Kids ID Kits\,  Free Bike Helmets\, ATV's\, Mounted Search & Rescue\, Climb the Fire Engine\, Meet Local Police and Firemen\, Car Seat Safety Check\, KidZone Obstacle Course\, YMCA Bounce House
X-ALT-DESC;FMTTYPE=text/html:<strong>Free Kids ID Kits\,&nbsp\; Free Bike Helmets\, ATV&#39\;s\, Mounted Search &amp\; Rescue\, Climb the Fire Engine\, Meet Local Police and Firemen\, Car Seat Safety Check\, KidZone Obstacle Course\, YMCA Bounce House</strong>
LOCATION:Grants Pass Shopping Center
UID:e.1818.17463
SEQUENCE:3
DTSTAMP:20260426T000035Z
URL:https://business.grantspasschamber.org/events/details/safety-fair-6th-annual-05-14-2016-17463
END:VEVENT

END:VCALENDAR
