BEGIN:VCALENDAR
VERSION:2.0
PRODID:-//ChamberMaster//Event Calendar 2.0//EN
METHOD:PUBLISH
X-PUBLISHED-TTL:P3D
REFRESH-INTERVAL:P3D
CALSCALE:GREGORIAN
BEGIN:VEVENT
DTSTART;VALUE=DATE:20160527
DTEND;VALUE=DATE:20160528
TRANSP:TRANSPARENT
X-MICROSOFT-CDO-ALLDAYEVENT:TRUE
SUMMARY:Salute To Our Heroes ~ Dedicate a flag in honor of a Veteran
DESCRIPTION:A military display honoring all men and women who have served or are currently serving in the armed forces or Merchant Marine services of the United States of America.\n\n\n\nDedicate a flag in honor of a Veteran\n\n\n\nOpen to the Public
X-ALT-DESC;FMTTYPE=text/html:<strong>A military display honoring all men and women who have served or are currently serving in the armed forces or Merchant Marine services of the United States of America.<br />\n<br />\n<u>Dedicate a flag in honor of a Veteran</u><br />\n<br />\nOpen to the Public</strong>
LOCATION:Hillcrest Memorial Cemetery
UID:e.1818.17476
SEQUENCE:3
DTSTAMP:20260426T001839Z
URL:https://business.grantspasschamber.org/events/details/salute-to-our-heroes-dedicate-a-flag-in-honor-of-a-veteran-05-27-2016-17476
END:VEVENT

END:VCALENDAR
