BEGIN:VCALENDAR
VERSION:2.0
PRODID:-//ChamberMaster//Event Calendar 2.0//EN
METHOD:PUBLISH
X-PUBLISHED-TTL:P3D
REFRESH-INTERVAL:P3D
CALSCALE:GREGORIAN
BEGIN:VEVENT
DTSTART:20160508T040000Z
DTEND:20160507T200000Z
X-MICROSOFT-CDO-ALLDAYEVENT:FALSE
SUMMARY:Saturday Aritsan and Crafters Market
DESCRIPTION:An outdoor showcase of local arts and crafts. Runs Saturdays through\n\nOctober 29.
X-ALT-DESC;FMTTYPE=text/html:An outdoor showcase of local arts and crafts. Runs Saturdays through<br />\nOctober 29.
LOCATION:Opens on Fifth Street - Between E and F Streets
UID:e.1818.15245
SEQUENCE:3
DTSTAMP:20260426T000821Z
URL:https://business.grantspasschamber.org/events/details/saturday-aritsan-and-crafters-market-05-07-2016-15245
END:VEVENT

END:VCALENDAR
