BEGIN:VCALENDAR
VERSION:2.0
PRODID:-//ChamberMaster//Event Calendar 2.0//EN
METHOD:PUBLISH
X-PUBLISHED-TTL:P3D
REFRESH-INTERVAL:P3D
CALSCALE:GREGORIAN
BEGIN:VEVENT
DTSTART:20160611T160000Z
DTEND:20160611T200000Z
X-MICROSOFT-CDO-ALLDAYEVENT:FALSE
SUMMARY:Saturday Artisan and Crafters Market
DESCRIPTION:Open Air Artisan and Crafters Market\n\nCome by and see all the various vendors and their art
X-ALT-DESC;FMTTYPE=text/html:<strong>Open Air Artisan and Crafters Market<br />\nCome by and see all the various vendors and their art</strong>
LOCATION:5th St\, between E and F Sts. Grants Pass OR 97526
UID:e.1818.17544
SEQUENCE:3
DTSTAMP:20260425T223854Z
URL:https://business.grantspasschamber.org/events/details/saturday-artisan-and-crafters-market-06-11-2016-17544
END:VEVENT

END:VCALENDAR
