BEGIN:VCALENDAR
VERSION:2.0
PRODID:-//ChamberMaster//Event Calendar 2.0//EN
METHOD:PUBLISH
X-PUBLISHED-TTL:P3D
REFRESH-INTERVAL:P3D
CALSCALE:GREGORIAN
BEGIN:VEVENT
DTSTART:20160924T180000Z
DTEND:20160924T220000Z
X-MICROSOFT-CDO-ALLDAYEVENT:FALSE
SUMMARY:Saturday Parkways
DESCRIPTION:Saturday Parkways is giant block party with a focus on physical activity\, exploring our neighborhood\, enjoying our park and reconnecting to our community.
X-ALT-DESC;FMTTYPE=text/html:<strong>Saturday Parkways is giant block party with a focus on physical activity\, exploring our neighborhood\, enjoying our park and reconnecting to our community.</strong>
LOCATION:Gilbert Creek Park 1750 NW Hawthorne Ave Grants Pass
UID:e.1818.10839
SEQUENCE:3
DTSTAMP:20260425T181352Z
URL:https://business.grantspasschamber.org/events/details/saturday-parkways-09-24-2016-10839
END:VEVENT

END:VCALENDAR
