BEGIN:VCALENDAR
VERSION:2.0
PRODID:-//ChamberMaster//Event Calendar 2.0//EN
METHOD:PUBLISH
X-PUBLISHED-TTL:P3D
REFRESH-INTERVAL:P3D
CALSCALE:GREGORIAN
BEGIN:VEVENT
DTSTART:20240319T190000Z
DTEND:20240319T190000Z
X-MICROSOFT-CDO-ALLDAYEVENT:FALSE
SUMMARY:Say Cheese
DESCRIPTION:Prepare your taste buds for a month-long celebration of grilled cheese goodness!\n\n\n\nSay Cheese\, a delectable fundraiser benefiting the Josephine County Food Bank\, is set to kick off on March 1st\, 2024\, featuring 19 restaurants across Grants Pass.\n\n\n\nThroughout the entire month of March\, participating restaurants will tantalize your taste buds with their unique grilled cheese creations\, all while supporting a worthy cause.\n\n\n\nFor every featured grilled cheese sandwich purchased\, $2 will be generously donated to the Josephine County Food Bank\, helping to combat food insecurity in our community.\n\nPARTICIPATING LOCATIONS
X-ALT-DESC;FMTTYPE=text/html:<span style="font-size:20px\;">Prepare your taste buds for a month-long celebration of grilled cheese goodness!<br />\n<br />\nSay Cheese\, a delectable fundraiser benefiting the Josephine County Food Bank\, is set to kick off on March 1st\, 2024\, featuring 19 restaurants across Grants Pass.<br />\n<br />\nThroughout the entire month of March\, participating restaurants will tantalize your taste buds with their unique grilled cheese creations\, all while supporting a worthy cause.<br />\n<br />\nFor every featured grilled cheese sandwich purchased\, $2 will be generously donated to the Josephine County Food Bank\, helping to combat food insecurity in our community.<br />\n<a href="https://www.jocofoodbank.org/event/say-cheese/">PARTICIPATING LOCATIONS</a></span>
LOCATION:Throughout Grants Pass area
UID:e.1818.48517
SEQUENCE:3
DTSTAMP:20260420T142952Z
URL:https://business.grantspasschamber.org/events/details/say-cheese-03-19-2024-48517
END:VEVENT

END:VCALENDAR
